BEGIN:VCALENDAR
VERSION:2.0
PRODID:-//hacksw/handcal//NONSGML v1.0//EN
BEGIN:VEVENT
SUMMARY:INTERCLUBS SENIORS A RODEZ
UID:3babe9e2-8426-4901-a874-59a6d6dcb8ad
DTSTART:20260910T060000Z
DTEND:20260910T140000Z
LOCATION:Localisation   
CATEGORIES:Sportif
STATUS:
DESCRIPTION:<h2 style="text-align: center;"><strong>Triangulaire
  NORD-AVEYRON :    La CANOURGUE  /  MEZEYRAC  /
  RODEZ</strong></h2>
 
 <h2 style="text-align: center;">Une rencontre
 sur chaque parcours</h2>
 
 <h2 style="text-align:
 center;"><strong>Rodez le 10 septembre</strong></h2>
 
 <h2
 style="text-align: center;"><strong>La Canourgue le 17
 septembre</strong></h2>
 
 <h2 style="text-align:
 center;"><strong>Mezeyrac le 24 septembre</strong></h2>
URL;VALUE=URI:https://www.as-golfrodez.fr/evenements/2026/09/10/interclubs-seniors-a-rodez-2417828
END:VEVENT
END:VCALENDAR
